BEGIN:VCALENDAR
VERSION:2.0
PRODID:-//Edmonton AA - ECPv6.15.20//NONSGML v1.0//EN
CALSCALE:GREGORIAN
METHOD:PUBLISH
X-ORIGINAL-URL:https://edmontonaa.org
X-WR-CALDESC:Events for Edmonton AA
REFRESH-INTERVAL;VALUE=DURATION:PT1H
X-Robots-Tag:noindex
X-PUBLISHED-TTL:PT1H
BEGIN:VTIMEZONE
TZID:America/Edmonton
BEGIN:DAYLIGHT
TZOFFSETFROM:-0700
TZOFFSETTO:-0600
TZNAME:MDT
DTSTART:20250309T090000
END:DAYLIGHT
BEGIN:STANDARD
TZOFFSETFROM:-0600
TZOFFSETTO:-0700
TZNAME:MST
DTSTART:20251102T080000
END:STANDARD
BEGIN:DAYLIGHT
TZOFFSETFROM:-0700
TZOFFSETTO:-0600
TZNAME:MDT
DTSTART:20260308T090000
END:DAYLIGHT
BEGIN:STANDARD
TZOFFSETFROM:-0600
TZOFFSETTO:-0700
TZNAME:MST
DTSTART:20261101T080000
END:STANDARD
BEGIN:DAYLIGHT
TZOFFSETFROM:-0700
TZOFFSETTO:-0600
TZNAME:MDT
DTSTART:20270314T090000
END:DAYLIGHT
BEGIN:STANDARD
TZOFFSETFROM:-0600
TZOFFSETTO:-0700
TZNAME:MST
DTSTART:20271107T080000
END:STANDARD
END:VTIMEZONE
BEGIN:VEVENT
DTSTART;TZID=America/Edmonton:20260423T190000
DTEND;TZID=America/Edmonton:20260423T210000
DTSTAMP:20260423T050732
CREATED:20260301T234338Z
LAST-MODIFIED:20260302T143032Z
UID:10001981-1776970800-1776978000@edmontonaa.org
SUMMARY:14 Week Big Book Study
DESCRIPTION:This 14-week Big Book Study starts on Mar. 5\, 2026 and ends on May 28\, 2026
URL:https://edmontonaa.org/event/14-week-big-book-study/2026-04-23/
LOCATION:Church of the Holy City\, 9119 128a Ave NW\, Edmonton\, T5E 0J6\, Canada
END:VEVENT
BEGIN:VEVENT
DTSTART;TZID=America/Edmonton:20260502T160000
DTEND;TZID=America/Edmonton:20260502T200000
DTSTAMP:20260423T050732
CREATED:20260406T142004Z
LAST-MODIFIED:20260408T001758Z
UID:10002026-1777737600-1777752000@edmontonaa.org
SUMMARY:Suit Up & Show Up's 20th Anniversary
DESCRIPTION:Suit up & Show up that meets at the Alano club will be celebrating 20 years of having meetings. Doors open at 4pm Dinner at 5pm speaker at 7pm.There will be a door prizes or two and gift baskets
URL:https://edmontonaa.org/event/suit-up-show-ups-20th-anniversary/
LOCATION:Edmonton Alano Club\, 10728 124 Street\, Edmonton\, Alberta\, T5M 0H1\, Canada
END:VEVENT
BEGIN:VEVENT
DTSTART;TZID=America/Edmonton:20260503T140000
DTEND;TZID=America/Edmonton:20260503T160000
DTSTAMP:20260423T050732
CREATED:20260421T223257Z
LAST-MODIFIED:20260421T223300Z
UID:10002043-1777816800-1777824000@edmontonaa.org
SUMMARY:Center City Spring BBQ
DESCRIPTION:Come out and join us for our 2nd annual Spring BBQ to kick off our return to Borden Park on Sundays at 2pm.
URL:https://edmontonaa.org/event/center-city-spring-bbq/
LOCATION:Borden Park\, 7507 Borden Park Rd NW\, Edmonton\, AB\, T5B 4W8\, Canada
END:VEVENT
BEGIN:VEVENT
DTSTART;TZID=America/Edmonton:20260507T180000
DTEND;TZID=America/Edmonton:20260507T200000
DTSTAMP:20260423T050732
CREATED:20260417T201533Z
LAST-MODIFIED:20260417T201537Z
UID:10002029-1778176800-1778184000@edmontonaa.org
SUMMARY:Friends Next Door Group 1st Anniversary
DESCRIPTION:The Friends Next Door Group is celebrating our first year anniversary with a BBQ and Potluck at our weekly meeting place\, the Darwell Community Hall. We are inviting all to come join us in our celebration where we will provide hamburgers and hot dogs for those attending. If you can bring something like a salad or desert it would be appreciated.Dinner starts at 6:PM sharp and will be followed by our regular Open AA meeting where past Area 78 Delegate Larry M will share his experience\, strength\, and hope with us. Tradition 7 will be observed at the meeting and as we are self-supporting we will ask only AA members to contribute if they can.For more information\, email darwellfnd@gmail.com.
URL:https://edmontonaa.org/event/friends-next-door-group-1st-anniversary/
LOCATION:Darwell Centennial Community Hall\, AB-633 & AB-765\, Lac Ste. Anne County\, Darwell\, AB\, T0E 0L0
END:VEVENT
BEGIN:VEVENT
DTSTART;TZID=America/Edmonton:20260509T163000
DTEND;TZID=America/Edmonton:20260509T190000
DTSTAMP:20260423T050732
CREATED:20260422T150834Z
LAST-MODIFIED:20260422T150837Z
UID:10002045-1778344200-1778353200@edmontonaa.org
SUMMARY:District 40 Spring Unity Night
DESCRIPTION:Unity Night is where members of district 40 come together for fellowship\, food\, and fun. We will have speakers from groups in the district\, a book raffle\, a 50/59 draw\, and a potluck dinner. The event will be hybrid for the speakers.Zoom ID: 9799 944 0495\,Passcode: camel40
URL:https://edmontonaa.org/event/district-40-spring-unity-night/
LOCATION:Camel Club\, 201 14567 118 Avenue\, NW\, Edmonton\, Alberta\, T5L 2M7\, Canada
END:VEVENT
BEGIN:VEVENT
DTSTART;TZID=America/Edmonton:20260522T170000
DTEND;TZID=America/Edmonton:20260523T210000
DTSTAMP:20260423T050732
CREATED:20260415T205012Z
LAST-MODIFIED:20260415T205014Z
UID:10002028-1779469200-1779570000@edmontonaa.org
SUMMARY:Area 78 May Area Committee Meeting
DESCRIPTION:Area 78 ACM being held in District 1 (Fort St John) and on the Area 78 online account. Please check Area 78 website for more updates.https://area78aa.org/
URL:https://edmontonaa.org/event/area-78-may-area-committee-meeting/
LOCATION:Fort St John Curling Club\, 9504 96 St\, Fort St John\, BC\, V1J 3N7\, Canada
END:VEVENT
BEGIN:VEVENT
DTSTART;TZID=America/Edmonton:20260610T111500
DTEND;TZID=America/Edmonton:20260610T131500
DTSTAMP:20260423T050732
CREATED:20260328T221613Z
LAST-MODIFIED:20260328T221815Z
UID:10002025-1781090100-1781097300@edmontonaa.org
SUMMARY:CPC Lunch w/ The Professional Community
DESCRIPTION:The professional gets lunch for free! Alcoholics are welcome to attend but must pay $25.00. The Public Information and Cooperation with the Professional Community Committee will be presenting a PowerPoint presentation and will have guest speakers as well.The presentation will focus on what AA is\, and what it isn’t\, and how we can be of service by volunteering to talk to staff about dealing with clients with an alcohol addiction or talking to groups of clients if so wished.
URL:https://edmontonaa.org/event/cpc-lunch-w-the-professional-community/
LOCATION:Chateau Louis Hotel\, 11727 Kingsway Ave NW\, Edmonton\, AB\, T5G 3A1\, Canada
END:VEVENT
BEGIN:VEVENT
DTSTART;TZID=America/Edmonton:20260612T130000
DTEND;TZID=America/Edmonton:20260614T210000
DTSTAMP:20260423T050732
CREATED:20260202T163352Z
LAST-MODIFIED:20260202T163400Z
UID:10001969-1781269200-1781470800@edmontonaa.org
SUMMARY:SYLVAN LAKE ROUND UP
DESCRIPTION:A WEEKEND OF recovery and fellowship by the LakeStay the weekend in a tent camper or lodging options are available onsitecabin with or without bedding bring your own is available text for details
URL:https://edmontonaa.org/event/sylvan-lake-round-up/
LOCATION:Sunnyside Christian Retreat Centre\, 202 Birchcliff Rd\, Birchcliff\, AB\, T4S 1R6\, Canada
END:VEVENT
BEGIN:VEVENT
DTSTART;TZID=America/Edmonton:20260619T180000
DTEND;TZID=America/Edmonton:20260621T123000
DTSTAMP:20260423T050732
CREATED:20260119T040524Z
LAST-MODIFIED:20260417T193111Z
UID:10001966-1781892000-1782045000@edmontonaa.org
SUMMARY:LADIES ANNUAL AA 12 STEP RETREAT
DESCRIPTION:RELAXING silent retreat\, own room\, food supplied – please let us know diet restrictions and allergiesMake reservation by texting 587-377-1117 or email Red Deer Central Office at centraloffice@reddeeraa.org. Arrival is 6 pm Friday\, departure is 12 noon on Sunday 50$ deposit is required – see poster
URL:https://edmontonaa.org/event/ladies-annual-aa-12-step-retreat/
LOCATION:Sanctum Retreat\, 11 Sanctum Way\, Caroline\, T0M 0M0\, Canada
ORGANIZER;CN="Red Deer's Ladies Group":MAILTO:centraloffice@reddeeraa.org
END:VEVENT
BEGIN:VEVENT
DTSTART;TZID=America/Edmonton:20260626T170000
DTEND;TZID=America/Edmonton:20260628T120000
DTSTAMP:20260423T050732
CREATED:20260320T012704Z
LAST-MODIFIED:20260320T012707Z
UID:10002007-1782493200-1782648000@edmontonaa.org
SUMMARY:Cardiff AA Campout Roundup
DESCRIPTION:
URL:https://edmontonaa.org/event/cardiff-aa-campout-roundup/
LOCATION:Cardiff Community Hall\, 55320 Range Rd 251\, Cardiff\, AB\, T8T 0C7\, Canada
END:VEVENT
BEGIN:VEVENT
DTSTART;TZID=America/Edmonton:20260627T080000
DTEND;TZID=America/Edmonton:20260627T140000
DTSTAMP:20260423T050732
CREATED:20260421T171432Z
LAST-MODIFIED:20260421T223349Z
UID:10002042-1782547200-1782568800@edmontonaa.org
SUMMARY:Friends of Bill Golf Tournament
DESCRIPTION:Come out and enjoy Fellowship on the golf course in a fun golf tournament. This event will be a best ball golf game for golfers of all talents. A prize draw will follow the tournament.Friends and Family Welcome!Register as an individual or as a team of 4(Maximum of 10 teams or 40 golfers).Cost: $110.00 – includes 18 holes of golf\, a power cart and a box lunchTickets must be purchased prior to June 20thWhere: COUNTRY SIDE GOLF CLUBWhen: Saturday\, June 27th\, 2026 – Tee Times from 8:00 to 9:30For more information or to register\, contact Don E. at 780-935-5949 or Harold B. at 780-257-0233 of the Helping Hands Group or email friendsofbilledm@gmail.com. Please let us know if you would like to sponsor a hole or donate prizes.
URL:https://edmontonaa.org/event/friends-of-bill-golf-tournament/
LOCATION:Country Side Golf Club\, 51466 Range Road 232\, Sherwood Park\, T8B 1L1\, Canada
END:VEVENT
BEGIN:VEVENT
DTSTART;TZID=America/Edmonton:20260627T103000
DTEND;TZID=America/Edmonton:20260627T113000
DTSTAMP:20260423T050732
CREATED:20260320T170721Z
LAST-MODIFIED:20260417T215126Z
UID:10002030-1782556200-1782559800@edmontonaa.org
SUMMARY:Red Deer Annual Ladies ONLINE Big Book Study
DESCRIPTION:Join us as we go through the Big Book together. You will need a Big Book\, a highlighter and a pen. The Big Book workbook is available online.Call or Text Red Deer Central Office 1-587-377-1117 for the Zoom code or more information.
URL:https://edmontonaa.org/event/red-deer-annual-ladies-online-big-book-study/2026-06-27/
LOCATION:AB
END:VEVENT
BEGIN:VEVENT
DTSTART;TZID=America/Edmonton:20260711T140000
DTEND;TZID=America/Edmonton:20260711T180000
DTSTAMP:20260423T050732
CREATED:20260327T204747Z
LAST-MODIFIED:20260328T214819Z
UID:10002024-1783778400-1783792800@edmontonaa.org
SUMMARY:District 64 (St. Albert) Unity BBQ
DESCRIPTION:Please join us as we celebrate sobriety at our 4th Annual St. Albert Unity BBQ. Doors open at 2. BBQ is at 3 and games from 4 until 6. Hotdogs will be supplied by the District. Please bring a BBQ side dish. Do not forget to bring a chair. This event will take place rain or shine as we have a covered picnic area. 7th Tradition will be honoured.
URL:https://edmontonaa.org/event/district-64-st-albert-unity-bbq/
LOCATION:Rotary Park (Located in: Riel Recreation Park)\, 2 Rodeo Dr\, St. Albert\, T8N 0Z8
END:VEVENT
BEGIN:VEVENT
DTSTART;TZID=America/Edmonton:20260724T180000
DTEND;TZID=America/Edmonton:20260726T120000
DTSTAMP:20260423T050732
CREATED:20260422T152314Z
LAST-MODIFIED:20260422T152317Z
UID:10002046-1784916000-1785067200@edmontonaa.org
SUMMARY:38th Annual Consort Campout
DESCRIPTION:Consort Campout begins Friday evening with registration and wiener roast followed by an Open AA meeting. Saturday events include a breakfast\, AA call up meeting\, Al-Anon speaker meeting\, potluck supper\, AA speaker meeting and a campfire meeting. Sunday morning breakfast is provided followed by a “one for the road’ meeting. Bring the kids and enjoy the spray park and playground. Golf course and fishing pond available. Join us for a weekend of fun and fellowship!
URL:https://edmontonaa.org/event/38th-annual-consort-campout/
LOCATION:Gooseberry Lake Provincial Park\, 62A\,Township Road 364\, Consort\, Alberta\, T0C 1B0\, Canada
END:VEVENT
BEGIN:VEVENT
DTSTART;TZID=America/Edmonton:20260814T180000
DTEND;TZID=America/Edmonton:20260816T120000
DTSTAMP:20260423T050732
CREATED:20260421T231215Z
LAST-MODIFIED:20260421T231218Z
UID:10002044-1786730400-1786881600@edmontonaa.org
SUMMARY:Center City 3rd Annual Roundup
DESCRIPTION:3rd annual Center City Roundup in Cardiff. Camping\, meals\, and events included in the ticket price. Save the date now.More info to come close to the date. Stay tuned!
URL:https://edmontonaa.org/event/center-city-3rd-annual-roundup/
LOCATION:Cardiff Community Hall\, 55320 Range Rd 251\, Cardiff\, AB\, T8T 0C7\, Canada
END:VEVENT
BEGIN:VEVENT
DTSTART;TZID=America/Edmonton:20260828T170000
DTEND;TZID=America/Edmonton:20260830T110000
DTSTAMP:20260423T050732
CREATED:20260410T183749Z
LAST-MODIFIED:20260410T183825Z
UID:10002027-1787936400-1788087600@edmontonaa.org
SUMMARY:Wetaskiwin AA Annual Campout Roundup
DESCRIPTION:
URL:https://edmontonaa.org/event/wetaskiwin-aa-annual-campout-roundup/
LOCATION:AB
END:VEVENT
END:VCALENDAR