BEGIN:VCALENDAR
VERSION:2.0
PRODID:-//Edmonton AA - ECPv6.15.20//NONSGML v1.0//EN
CALSCALE:GREGORIAN
METHOD:PUBLISH
X-ORIGINAL-URL:https://edmontonaa.org
X-WR-CALDESC:Events for Edmonton AA
REFRESH-INTERVAL;VALUE=DURATION:PT1H
X-Robots-Tag:noindex
X-PUBLISHED-TTL:PT1H
BEGIN:VTIMEZONE
TZID:America/Edmonton
BEGIN:DAYLIGHT
TZOFFSETFROM:-0700
TZOFFSETTO:-0600
TZNAME:MDT
DTSTART:20250309T090000
END:DAYLIGHT
BEGIN:STANDARD
TZOFFSETFROM:-0600
TZOFFSETTO:-0700
TZNAME:MST
DTSTART:20251102T080000
END:STANDARD
BEGIN:DAYLIGHT
TZOFFSETFROM:-0700
TZOFFSETTO:-0600
TZNAME:MDT
DTSTART:20260308T090000
END:DAYLIGHT
BEGIN:STANDARD
TZOFFSETFROM:-0600
TZOFFSETTO:-0700
TZNAME:MST
DTSTART:20261101T080000
END:STANDARD
BEGIN:DAYLIGHT
TZOFFSETFROM:-0700
TZOFFSETTO:-0600
TZNAME:MDT
DTSTART:20270314T090000
END:DAYLIGHT
BEGIN:STANDARD
TZOFFSETFROM:-0600
TZOFFSETTO:-0700
TZNAME:MST
DTSTART:20271107T080000
END:STANDARD
END:VTIMEZONE
BEGIN:VEVENT
DTSTART;TZID=America/Edmonton:20260411T110000
DTEND;TZID=America/Edmonton:20260411T130000
DTSTAMP:20260423T050355
CREATED:20260321T143936Z
LAST-MODIFIED:20260321T144230Z
UID:10002022-1775905200-1775912400@edmontonaa.org
SUMMARY:Sponsorship Workshop
DESCRIPTION:Sponsorship Workshop presented by District 55 & 57\, Speakers (Larry V\, Theresa S\, Wendy S and Edwin P)
URL:https://edmontonaa.org/event/sponsorship-workshop/
LOCATION:SSUC: Spiritual Seekers United in Community (Southminster-Steinhauer United Church)\, 10740 19 Ave NW\, Edmonton\, AB\, T6J 6W9
END:VEVENT
END:VCALENDAR