BEGIN:VCALENDAR
VERSION:2.0
PRODID:-//Edmonton AA - ECPv6.15.20//NONSGML v1.0//EN
CALSCALE:GREGORIAN
METHOD:PUBLISH
X-WR-CALNAME:Edmonton AA
X-ORIGINAL-URL:https://edmontonaa.org
X-WR-CALDESC:Events for Edmonton AA
REFRESH-INTERVAL;VALUE=DURATION:PT1H
X-Robots-Tag:noindex
X-PUBLISHED-TTL:PT1H
BEGIN:VTIMEZONE
TZID:America/Edmonton
BEGIN:DAYLIGHT
TZOFFSETFROM:-0700
TZOFFSETTO:-0600
TZNAME:MDT
DTSTART:20250309T090000
END:DAYLIGHT
BEGIN:STANDARD
TZOFFSETFROM:-0600
TZOFFSETTO:-0700
TZNAME:MST
DTSTART:20251102T080000
END:STANDARD
BEGIN:DAYLIGHT
TZOFFSETFROM:-0700
TZOFFSETTO:-0600
TZNAME:MDT
DTSTART:20260308T090000
END:DAYLIGHT
BEGIN:STANDARD
TZOFFSETFROM:-0600
TZOFFSETTO:-0700
TZNAME:MST
DTSTART:20261101T080000
END:STANDARD
BEGIN:DAYLIGHT
TZOFFSETFROM:-0700
TZOFFSETTO:-0600
TZNAME:MDT
DTSTART:20270314T090000
END:DAYLIGHT
BEGIN:STANDARD
TZOFFSETFROM:-0600
TZOFFSETTO:-0700
TZNAME:MST
DTSTART:20271107T080000
END:STANDARD
END:VTIMEZONE
BEGIN:VEVENT
DTSTART;TZID=America/Edmonton:20260410T183000
DTEND;TZID=America/Edmonton:20260410T213000
DTSTAMP:20260423T050313
CREATED:20251230T165153Z
LAST-MODIFIED:20260117T021111Z
UID:10001938-1775845800-1775856600@edmontonaa.org
SUMMARY:District 64 2026 Round-Up
DESCRIPTION:Please come and join us in St. Albert as we celebrate our 49th annual Round-Up. This year’s theme is “Into Action with Humility”. Our agenda is loaded with inspirational speakers starting on Friday night and continuing all day Saturday. Our first-class dinner buffet will be equally fantastic as it was in recent years.Please note we are using two event locations. Friday at the United Church and all day Saturday at the North Pointe Community Church.
URL:https://edmontonaa.org/event/district-64-2026-round-up/
LOCATION:St. Albert United Church\, 20 Green Grove Drive\, St. Albert\, AB\, T8N 5H6\, Canada
CATEGORIES:Roundup
END:VEVENT
END:VCALENDAR